BEGIN:VCALENDAR
PRODID:-//AT Content Types//AT Event//EN
VERSION:1.0
BEGIN:VEVENT
DTSTART:20120908T070000Z
DTEND:20120908T140000Z
DCREATED:20120822T111833Z
UID:ATEvent-40db29b5b83ae55f4a00efa04d5cec78
SEQUENCE:0
LAST-MODIFIED:20120822T111937Z
SUMMARY:Egyházmegyei Ifjúsági Kerékpáros Találkozó - Káván
LOCATION:Káva - Evangélikus Templom
PRIORITY:3
TRANSP:0
END:VEVENT
END:VCALENDAR
