BEGIN:VCALENDAR
PRODID:-//AT Content Types//AT Event//EN
VERSION:2.0
METHOD:PUBLISH
BEGIN:VEVENT
DTSTAMP:20260425T203903Z
CREATED:20090219T001531Z
UID:ATEvent-9f4ac28179c59338bdae6d8a3931c8e8
LAST-MODIFIED:20150227T103156Z
SUMMARY:Szupplikáció a monori gyülekezetben
DTSTART:20150308T090000Z
DTEND:20150308T153000Z
LOCATION:Monor és Monorierdő
CONTACT:Selmeczi Lajos Péter\, 06/208244902\, lajos.selmeczi@lutheran.hu
CLASS:PUBLIC
END:VEVENT
END:VCALENDAR
